BEGIN:VCALENDAR
VERSION:2.0
PRODID:-//ChamberMaster//Event Calendar 2.0//EN
METHOD:PUBLISH
X-PUBLISHED-TTL:P3D
REFRESH-INTERVAL:P3D
CALSCALE:GREGORIAN
BEGIN:VEVENT
DTSTART:20221115T134500Z
DTEND:20221115T150000Z
X-MICROSOFT-CDO-ALLDAYEVENT:FALSE
SUMMARY:Coffee Connection
DESCRIPTION:On Tuesday\, November 15\, 2022\, Traverse Connect is hosting our quarterly Coffee Connection! This is a great opportunity to maximize your membership by making new connections with fellow Traverse Connect members\, hear about Traverse Connect's efforts to help you GROW YOUR BUSINESS\, and learn how to best use your benefits and maintain your account.\n\n \n\nWhether you have recently joined or have been a long-time member\, Coffee Connection is a fantastic opportunity to connect with our team\, as well as network with other members within the Traverse City Business Community.\n\n\n\nWe look forward to seeing you!\n\n\n\nAttend in person at the Traverse Connect building\, Blue Conference Room (1st Floor). [Metered parking available in Lot C or across Cass St. in Lot B].\n\n\n\n- OR -\n\n\n\nAttend virtually via Zoom - Upon registration\, you will receive a confirmation email with the Zoom link. If you do not see your confirmation email\, please check your spam folder.\n\n\n\nNote: You may choose to have access to your computer to login to your account to follow along as we discuss how to navigate your account and your enhanced business directory webpage and use it to your best advantage. Contact Krista Esckilsen at krista.esckilsen@traverseconnect.com if you need login assistance.
X-ALT-DESC;FMTTYPE=text/html:<span style="box-sizing: border-box\; -webkit-tap-highlight-color: transparent\; margin: 0px\; padding: 0px\; border: 0px\; font-variant-numeric: inherit\; font-variant-east-asian: inherit\; font-stretch: inherit\; font-size: 16px\; line-height: inherit\; font-family: proxima-nova\, sans-serif\; vertical-align: baseline\; outline: 0px\;"><span style="box-sizing: border-box\; -webkit-tap-highlight-color: transparent\; margin: 0px\; padding: 0px\; border: 0px\; font-variant: inherit\; font-stretch: inherit\; font-size: inherit\; line-height: inherit\; font-family: arial\; vertical-align: baseline\; outline: 0px\;"><span style="box-sizing: border-box\; -webkit-tap-highlight-color: transparent\; margin: 0px\; padding: 0px\; border: 0px\; font-variant: inherit\; font-stretch: inherit\; font-size: inherit\; line-height: inherit\; font-family: proxima-nova\, sans-serif\; vertical-align: baseline\; outline: 0px\; color: rgb(0\, 0\, 0)\;">On Tuesday\, November 15\, 2022\, Traverse Connect is hosting our quarterly Coffee Connection!&nbsp\;<span style="box-sizing: border-box\; -webkit-tap-highlight-color: transparent\; margin: 0px\; padding: 0px\; border: 0px\; font-variant: inherit\; font-stretch: inherit\; font-size: inherit\; line-height: inherit\; vertical-align: baseline\; background-image: initial\; background-position: initial\; background-size: initial\; background-repeat: initial\; background-attachment: initial\; background-origin: initial\; background-clip: initial\;">This is a great opportunity to&nbsp\;<span style="box-sizing: border-box\; -webkit-tap-highlight-color: transparent\; font: inherit\; margin: 0px\; padding: 0px\; border: 0px\; vertical-align: baseline\;">maximize your membership</span>&nbsp\;by making new connections with fellow Traverse Connect members\, hear about Traverse Connect&#39\;s efforts to help you&nbsp\;</span><a href="http://traverseconnect.com/economic-development/growing-business/" style="box-sizing: border-box\; -webkit-tap-highlight-color: transparent\; margin: 0px\; padding: 0px\; border: 0px\; font-variant: inherit\; font-stretch: inherit\; font-size: inherit\; line-height: inherit\; vertical-align: baseline\; color: rgb(7\, 58\, 145)\; text-decoration-line: none\; background-color: transparent\; overflow-wrap: break-word\;"><span style="box-sizing: border-box\; -webkit-tap-highlight-color: transparent\; font: inherit\; margin: 0px\; padding: 0px\; border: 0px\; vertical-align: baseline\;"><span style="box-sizing: border-box\; -webkit-tap-highlight-color: transparent\; margin: 0px\; padding: 0px\; border: 0px\; font-variant: inherit\; font-stretch: inherit\; font-size: inherit\; line-height: inherit\; vertical-align: baseline\; background-image: initial\; background-position: initial\; background-size: initial\; background-repeat: initial\; background-attachment: initial\; background-origin: initial\; background-clip: initial\;">GROW YOUR BUSINESS</span></span></a><span style="box-sizing: border-box\; -webkit-tap-highlight-color: transparent\; margin: 0px\; padding: 0px\; border: 0px\; font-variant: inherit\; font-stretch: inherit\; font-size: inherit\; line-height: inherit\; vertical-align: baseline\; background-image: initial\; background-position: initial\; background-size: initial\; background-repeat: initial\; background-attachment: initial\; background-origin: initial\; background-clip: initial\;">\, and learn how to best use your benefits and maintain your account.</span><br style="box-sizing: border-box\; -webkit-tap-highlight-color: transparent\;" />\n&nbsp\;<br style="box-sizing: border-box\; -webkit-tap-highlight-color: transparent\;" />\n<span style="box-sizing: border-box\; -webkit-tap-highlight-color: transparent\; margin: 0px\; padding: 0px\; border: 0px\; font-variant: inherit\; font-stretch: inherit\; font-size: inherit\; line-height: inherit\; vertical-align: baseline\; background-image: initial\; background-position: initial\; background-size: initial\; background-repeat: initial\; background-attachment: initial\; background-origin: initial\; background-clip: initial\;">Whether you have recently joined or have been a long-time member\, Coffee Connection is a fantastic opportunity to connect with our team\, as well as network with other members within the Traverse City Business Community.</span></span></span></span><br style="box-sizing: border-box\; -webkit-tap-highlight-color: transparent\; font-family: proxima-nova\, sans-serif\; font-size: 15px\;" />\n<br style="box-sizing: border-box\; -webkit-tap-highlight-color: transparent\; font-family: proxima-nova\, sans-serif\; font-size: 15px\;" />\n<span style="box-sizing: border-box\; -webkit-tap-highlight-color: transparent\; margin: 0px\; padding: 0px\; border: 0px\; font-variant-numeric: inherit\; font-variant-east-asian: inherit\; font-stretch: inherit\; font-size: 16px\; line-height: inherit\; font-family: proxima-nova\, sans-serif\; vertical-align: baseline\;"><span style="box-sizing: border-box\; -webkit-tap-highlight-color: transparent\; margin: 0px\; padding: 0px\; border: 0px\; font-variant: inherit\; font-stretch: inherit\; font-size: inherit\; line-height: inherit\; font-family: arial\; vertical-align: baseline\;">We look forward to seeing you!</span></span><br />\n<br />\n<span style="font-family: arial\; font-size: 16px\;"><strong>Attend in person</strong>&nbsp\;at the Traverse Connect building\, Blue Conference Room (1st Floor).&nbsp\;</span><span style="font-family: arial\; font-size: 16px\;">[Metered parking available in Lot C&nbsp\;<em>or</em>&nbsp\;across Cass St. in Lot B].<br />\n<br />\n<strong><em>- OR -</em></strong><br />\n<br />\n<strong>Attend virtually via Zoom</strong>&nbsp\;- Upon registration\, you will receive a confirmation email with the Zoom link. If you do not see your confirmation email\, please check your spam folder.</span><br />\n<br />\n<span style="font-size: 16px\;"><span style="font-family: arial\;"><em><strong>Note</strong>: You may choose to have access to your computer to&nbsp\;<a href="https://business.traverseconnect.com/login/">login</a>&nbsp\;to your account to follow along as we discuss how to navigate your account and your enhanced business directory webpage and use it to your best advantage. Contact Krista Esckilsen at&nbsp\;<a href="mailto:jody.hansen@traverseconnect.com">krista.esckilsen@traverseconnect.com</a>&nbsp\;if you need login assistance.</em></span></span>
LOCATION:202 Grandview Parkway\, Traverse City\, MI 49684
UID:e.1950.6428
SEQUENCE:3
DTSTAMP:20260420T145317Z
URL:https://business.traverseconnect.com/events/details/coffee-connection-11-15-2022-6428
END:VEVENT

END:VCALENDAR
