BEGIN:VCALENDAR
VERSION:2.0
PRODID:-//ChamberMaster//Event Calendar 2.0//EN
METHOD:PUBLISH
X-PUBLISHED-TTL:P3D
REFRESH-INTERVAL:P3D
CALSCALE:GREGORIAN
BEGIN:VEVENT
DTSTART:20210216T160000Z
DTEND:20210216T170000Z
X-MICROSOFT-CDO-ALLDAYEVENT:FALSE
SUMMARY:New & Renewing Investor/Member Orientation 2021
DESCRIPTION:Join us for an opportunity to meet fellow member investors and learn more about your benefits and how to manage your member account and website platform. Learn how to promote your business products and services to reach other investors and the community. We look forward to seeing you!\n\n\n\nNote: you may choose to be logged into your own Member account to follow along as we discuss how to navigate your account and your enhanced business directory listing and use it to your best advantage. Contact Jody Hansen at jody.hansen@traverseconnect.com if you need login assistance. Also - this is a lunch hour meeting so feel free to enjoy your meal as we chat!
X-ALT-DESC;FMTTYPE=text/html:<span style="font-size:16px\;"><span style="font-family:arial\;">Join us for an opportunity to meet fellow member investors and learn more about your benefits and how to manage your member account and website platform. Learn how to promote your business products and services to reach other investors and the community. We look forward to seeing you!</span></span><br />\n<br />\n<em style="font-family: arial\; font-size: 16px\;"><strong>Note</strong>: you may choose to be logged into your own Member account to follow along as we discuss how to navigate your account and your enhanced business directory listing and use it to your best advantage. Contact Jody Hansen at&nbsp\;<a href="mailto:jody.hansen@traverseconnect.com">jody.hansen@traverseconnect.com</a>&nbsp\;if you need login assistance. Also - this is a lunch hour meeting so feel free to enjoy your meal as we chat!</em>
LOCATION:Zoom - Upon registration\, you will receive a confirmation email containing the Zoom link. If you do not see your confirmation email\, please check your spam folder. Limited to the first 30 registrants\; please watch our Events Page and your weekly Bulletin e-newsletter for our next quarterly session (Feb/May/Aug/Nov).
UID:e.1950.6113
SEQUENCE:3
DTSTAMP:20260423T183636Z
URL:https://business.traverseconnect.com/events/details/new-renewing-investor-member-orientation-2021-6113
END:VEVENT

END:VCALENDAR
