BEGIN:VCALENDAR
VERSION:2.0
PRODID:-//ChamberMaster//Event Calendar 2.0//EN
METHOD:PUBLISH
X-PUBLISHED-TTL:P3D
REFRESH-INTERVAL:P3D
CALSCALE:GREGORIAN
BEGIN:VEVENT
DTSTART:20260604T203000Z
DTEND:20260604T210000Z
X-MICROSOFT-CDO-ALLDAYEVENT:FALSE
SUMMARY:Ribbon Cutting - Benjamin Twiggs
DESCRIPTION:Join us in the 60 year anniversary of Benjamin Twiggs! This will happen at 4:30 PM on Thursday\, June 4. Food and beverages will be provided and this will be part of a larger open house. We look forward to celebrating with you!\n\n\n\nStop by after work and help us celebrate the opening of our new Benjamin Twiggs location and our 60-year anniversary!!\nCherry samples and drinks offered. The kickoff to our grand opening weekend. Come as you are!!
X-ALT-DESC;FMTTYPE=text/html:<div class="x_ContentPasted1" style="font-size: 11pt\; font-family: Calibri\, sans-serif\; margin: 0px\; color: rgb(36\, 36\, 36)\; background-color: rgb(255\, 255\, 255)\;"><!--StartFragment--><span style="color:#000000\;"><span style="font-size:16px\;"><span style="font-family:arial\;"><span data-olk-copy-source="MessageBody" style="margin: 0px\;">Join us in the 60 year anniversary of Benjamin Twiggs! This will happen at 4:30 PM on Thursday\, June 4. Food and beverages will be provided and this will be part of a larger open house. We look forward to celebrating with you!</span><br />\n<br />\nStop by after work and help us celebrate the opening of our new Benjamin Twiggs location and our 60-year anniversary!!</span></span></span>\n<p style="color: rgb(36\, 36\, 36)\; font-family: &quot\;Segoe UI&quot\;\, &quot\;Segoe UI Web (West European)&quot\;\, -apple-system\, &quot\;system-ui&quot\;\, Roboto\, &quot\;Helvetica Neue&quot\;\, sans-serif\; font-size: 15px\;"><span style="color:#000000\;"><span style="font-size:16px\;"><span style="font-family:arial\;">Cherry samples and drinks offered. The kickoff to our grand opening weekend. Come as you are!!</span></span></span></p>\n</div>\n
LOCATION:305 W Front Street\, Suite D Traverse City\, MI 49684 Front of the store next to downtown Mundos\, located on the corner of Front and Pine.
UID:e.1950.6884
SEQUENCE:3
DTSTAMP:20260421T233218Z
URL:https://business.traverseconnect.com/events/details/ribbon-cutting-benjamin-twiggs-6884
END:VEVENT

END:VCALENDAR
